BEGIN:VCALENDAR
VERSION:2.0
PRODID:-//Quilted Needle Fabrics - ECPv6.15.20//NONSGML v1.0//EN
CALSCALE:GREGORIAN
METHOD:PUBLISH
X-WR-CALNAME:Quilted Needle Fabrics
X-ORIGINAL-URL:https://quiltedneedlefabrics.com
X-WR-CALDESC:Events for Quilted Needle Fabrics
REFRESH-INTERVAL;VALUE=DURATION:PT1H
X-Robots-Tag:noindex
X-PUBLISHED-TTL:PT1H
BEGIN:VTIMEZONE
TZID:America/New_York
BEGIN:DAYLIGHT
TZOFFSETFROM:-0500
TZOFFSETTO:-0400
TZNAME:EDT
DTSTART:20240310T070000
END:DAYLIGHT
BEGIN:STANDARD
TZOFFSETFROM:-0400
TZOFFSETTO:-0500
TZNAME:EST
DTSTART:20241103T060000
END:STANDARD
BEGIN:DAYLIGHT
TZOFFSETFROM:-0500
TZOFFSETTO:-0400
TZNAME:EDT
DTSTART:20250309T070000
END:DAYLIGHT
BEGIN:STANDARD
TZOFFSETFROM:-0400
TZOFFSETTO:-0500
TZNAME:EST
DTSTART:20251102T060000
END:STANDARD
BEGIN:DAYLIGHT
TZOFFSETFROM:-0500
TZOFFSETTO:-0400
TZNAME:EDT
DTSTART:20260308T070000
END:DAYLIGHT
BEGIN:STANDARD
TZOFFSETFROM:-0400
TZOFFSETTO:-0500
TZNAME:EST
DTSTART:20261101T060000
END:STANDARD
END:VTIMEZONE
BEGIN:VEVENT
DTSTART;TZID=America/New_York:20250614T130000
DTEND;TZID=America/New_York:20250614T160000
DTSTAMP:20260420T065422
CREATED:20250305T171817Z
LAST-MODIFIED:20250328T120133Z
UID:10000050-1749906000-1749916800@quiltedneedlefabrics.com
SUMMARY:Beginning Quilt Class-Hand & Machine Quilting
DESCRIPTION:Skill Level: Confident Beginner \nInstructor: Michelle Linder \nClass Fee: $20.00  Pre-Requisite (must have completed Beginner Quilting Class) \nIn this 4-week class\, you will learn the basics of machine quilting\, hand quilting\, and binding your quilt\, ensuring an amazing finish to your first quilting journey. \nQuilted Needle Fabrics offers a 10% discount on class supplies \nRequirements – Completed quilt top. \n\nSewing machine in good working condition. This class assumes you have a basic knowledge of your sewing machine\, including how to thread your machine and how to wind your bobbin.\n1 pre-wound bobbin\nFree Motion Foot\nWalking Foot\nThread –-neutral colored 100% cotton for piecing (synthetic or cotton)\nRotary Cutter with a sharp blade\nRotary Cutting mat\n6” ruler (available at shop)\nComplete Fussy Cut Ruler Set (available at shop)\nSeam ripper\n\nFabric Requirements (purchase at quilted needle fabrics) \nBacking \nBatting \nBinding \nBasic Sewing Kit \n\nNotebook (1/4” graft paper optional)\nPencil with eraser\nDouble sided tape (or fabric glue)\nScissors 6-8” and small snips to cut threads\nStraight pins\nPin Cushion\nWashable pencil (fabric marker)\nInk Pen (ultra fine point)\nSafety pins\n\nQuilted Needle Fabrics will have Shared Cutting Mats\, 6 1/2″ x 24 1/2″ Rulers with Handles\, Irons\, Ironing Boards and Design Wall
URL:https://quiltedneedlefabrics.com/eventss/beginning-quilt-class-hand-machine-quilting/2025-06-14/
LOCATION:Quilted Needle Fabrics\, 350 East Street\, Pittsboro\, North Carolina\, 27312
END:VEVENT
END:VCALENDAR