BEGIN:VCALENDAR
VERSION:2.0
PRODID:-//Quilted Needle Fabrics - ECPv6.15.20//NONSGML v1.0//EN
CALSCALE:GREGORIAN
METHOD:PUBLISH
X-WR-CALNAME:Quilted Needle Fabrics
X-ORIGINAL-URL:https://quiltedneedlefabrics.com
X-WR-CALDESC:Events for Quilted Needle Fabrics
REFRESH-INTERVAL;VALUE=DURATION:PT1H
X-Robots-Tag:noindex
X-PUBLISHED-TTL:PT1H
BEGIN:VTIMEZONE
TZID:America/New_York
BEGIN:DAYLIGHT
TZOFFSETFROM:-0500
TZOFFSETTO:-0400
TZNAME:EDT
DTSTART:20240310T070000
END:DAYLIGHT
BEGIN:STANDARD
TZOFFSETFROM:-0400
TZOFFSETTO:-0500
TZNAME:EST
DTSTART:20241103T060000
END:STANDARD
BEGIN:DAYLIGHT
TZOFFSETFROM:-0500
TZOFFSETTO:-0400
TZNAME:EDT
DTSTART:20250309T070000
END:DAYLIGHT
BEGIN:STANDARD
TZOFFSETFROM:-0400
TZOFFSETTO:-0500
TZNAME:EST
DTSTART:20251102T060000
END:STANDARD
BEGIN:DAYLIGHT
TZOFFSETFROM:-0500
TZOFFSETTO:-0400
TZNAME:EDT
DTSTART:20260308T070000
END:DAYLIGHT
BEGIN:STANDARD
TZOFFSETFROM:-0400
TZOFFSETTO:-0500
TZNAME:EST
DTSTART:20261101T060000
END:STANDARD
END:VTIMEZONE
BEGIN:VEVENT
DTSTART;TZID=America/New_York:20250920T130000
DTEND;TZID=America/New_York:20250920T160000
DTSTAMP:20260419T110628
CREATED:20250902T154817Z
LAST-MODIFIED:20250906T182314Z
UID:10000093-1758373200-1758384000@quiltedneedlefabrics.com
SUMMARY:Festive Flower Hot Pad & Colorful Fabric Basket
DESCRIPTION:🌸🧺 Stitch & Create Workshop 🧵✨ \nSkill Level: Beginner (but all students are welcome) \nDate: September 20th \nTime: 1:00 PM – 4:00 PM (3 hours) \nWhere: Quilted Needle Fabrics | 350 East Street\, Pittsboro \nClass Size: Max 6 students \nClass Fee: $25.00 \nRegistration: Must be paid in full before class starts. \nCall\, email or come to the shop to reserve your seat and let’s have some holiday fun! \nGet ready for double the fun in this hands-on workshop!\nYou’ll create two beginner-friendly projects. \nInstructor: Pat Dinicola \n🌸 Festive Flower Hot Pad – Learn a clever technique to stitch petals and a center into a charming flower-shaped hot pad. Choose two colors for the petals and a third for the center to make it uniquely yours. Perfect for the kitchen or as a handmade gift! \n \n🧺 Colorful Fabric Basket – Stitch your very own fully lined\, multi-purpose fabric basket. Whether you use it for sewing notions\, small gifts\, or home décor\, this project is both fun and functional. \n \nQuilted Needle Fabrics offers a 10% discount on the day of the class for shopping. \n  \n 
URL:https://quiltedneedlefabrics.com/eventss/festive-flower-hot-pad-colorful-fabric-basket/
LOCATION:Quilted Needle Fabrics\, 350 East Street\, Pittsboro\, North Carolina\, 27312
END:VEVENT
END:VCALENDAR