BEGIN:VCALENDAR
VERSION:2.0
PRODID:-//Quilted Needle Fabrics - ECPv6.15.20//NONSGML v1.0//EN
CALSCALE:GREGORIAN
METHOD:PUBLISH
X-ORIGINAL-URL:https://quiltedneedlefabrics.com
X-WR-CALDESC:Events for Quilted Needle Fabrics
REFRESH-INTERVAL;VALUE=DURATION:PT1H
X-Robots-Tag:noindex
X-PUBLISHED-TTL:PT1H
BEGIN:VTIMEZONE
TZID:America/New_York
BEGIN:DAYLIGHT
TZOFFSETFROM:-0500
TZOFFSETTO:-0400
TZNAME:EDT
DTSTART:20240310T070000
END:DAYLIGHT
BEGIN:STANDARD
TZOFFSETFROM:-0400
TZOFFSETTO:-0500
TZNAME:EST
DTSTART:20241103T060000
END:STANDARD
BEGIN:DAYLIGHT
TZOFFSETFROM:-0500
TZOFFSETTO:-0400
TZNAME:EDT
DTSTART:20250309T070000
END:DAYLIGHT
BEGIN:STANDARD
TZOFFSETFROM:-0400
TZOFFSETTO:-0500
TZNAME:EST
DTSTART:20251102T060000
END:STANDARD
BEGIN:DAYLIGHT
TZOFFSETFROM:-0500
TZOFFSETTO:-0400
TZNAME:EDT
DTSTART:20260308T070000
END:DAYLIGHT
BEGIN:STANDARD
TZOFFSETFROM:-0400
TZOFFSETTO:-0500
TZNAME:EST
DTSTART:20261101T060000
END:STANDARD
END:VTIMEZONE
BEGIN:VEVENT
DTSTART;TZID=America/New_York:20250603T130000
DTEND;TZID=America/New_York:20250603T170000
DTSTAMP:20260420T051703
CREATED:20250328T115714Z
LAST-MODIFIED:20250328T130217Z
UID:10000061-1748955600-1748970000@quiltedneedlefabrics.com
SUMMARY:✂️ Foundations in Quilting: Complete Throw Size Quilt ✂️
DESCRIPTION:👤 Skill Level: Confident Beginner \n🎟️ Class Fee: $135 – includes a fabric kit to complete your quilt top. \n                                   (Batting and Quilt Backing not included.) \n📍 Location: Quilted Needle Fabrics\, 350 East Street\, Pittsboro\, NC \n📅 Date(s):  Tuesday’s May 20\, 27\, June 3\, 10\, 17 Final Class June 24 \n🕒 Class Duration: 6 weeks: 1 PM – 5 PM \n              📢 Limited spots available!  This class cannot be purchased online. \n🧵About the Class: \nLearn the essentials of quilting while creating a beautiful throw size quilt!  This beginner-friendly course will guide you through the fundamentals of quilting—from selecting fabrics to finishing your very own throw size quilt.  Students will learn essential techniques\, including cutting\, piecing\, pressing\, quilting\, and binding. \nWhat You’ll Learn: \n✅    Fabric selection—choosing colors and prints that work together \n✅    How to properly use quilting tools: rotary cutter\, rulers\, and mats \n✅    How to read a pattern and understanding acronyms \n✅    Cutting fabric and accurate piecing techniques \n✅    Assembling quilt blocks and pressing for precision \n✅    Quilt top assembly \n✅    Basic quilting techniques (stitching layers together) \n✅    Binding and finishing touches \n🧵 Required \n✅ Sewing machine in good working condition. This class assumes you have a basic knowledge of your sewing machine\, including how to thread your machine and how to wind your bobbin. \n🌟 By the end of the class\, you’ll have a completed throw size quilt and the confidence to start your next quilting project!
URL:https://quiltedneedlefabrics.com/eventss/%e2%9c%82%ef%b8%8f-foundations-in-quilting-complete-throw-size-quilt-%e2%9c%82%ef%b8%8f/2025-06-03/
LOCATION:Quilted Needle Fabrics\, 350 East Street\, Pittsboro\, North Carolina\, 27312
END:VEVENT
BEGIN:VEVENT
DTSTART;TZID=America/New_York:20250607T130000
DTEND;TZID=America/New_York:20250607T160000
DTSTAMP:20260420T051703
CREATED:20250305T171817Z
LAST-MODIFIED:20250328T120133Z
UID:10000049-1749301200-1749312000@quiltedneedlefabrics.com
SUMMARY:Beginning Quilt Class-Hand & Machine Quilting
DESCRIPTION:Skill Level: Confident Beginner \nInstructor: Michelle Linder \nClass Fee: $20.00  Pre-Requisite (must have completed Beginner Quilting Class) \nIn this 4-week class\, you will learn the basics of machine quilting\, hand quilting\, and binding your quilt\, ensuring an amazing finish to your first quilting journey. \nQuilted Needle Fabrics offers a 10% discount on class supplies \nRequirements – Completed quilt top. \n\nSewing machine in good working condition. This class assumes you have a basic knowledge of your sewing machine\, including how to thread your machine and how to wind your bobbin.\n1 pre-wound bobbin\nFree Motion Foot\nWalking Foot\nThread –-neutral colored 100% cotton for piecing (synthetic or cotton)\nRotary Cutter with a sharp blade\nRotary Cutting mat\n6” ruler (available at shop)\nComplete Fussy Cut Ruler Set (available at shop)\nSeam ripper\n\nFabric Requirements (purchase at quilted needle fabrics) \nBacking \nBatting \nBinding \nBasic Sewing Kit \n\nNotebook (1/4” graft paper optional)\nPencil with eraser\nDouble sided tape (or fabric glue)\nScissors 6-8” and small snips to cut threads\nStraight pins\nPin Cushion\nWashable pencil (fabric marker)\nInk Pen (ultra fine point)\nSafety pins\n\nQuilted Needle Fabrics will have Shared Cutting Mats\, 6 1/2″ x 24 1/2″ Rulers with Handles\, Irons\, Ironing Boards and Design Wall
URL:https://quiltedneedlefabrics.com/eventss/beginning-quilt-class-hand-machine-quilting/2025-06-07/
LOCATION:Quilted Needle Fabrics\, 350 East Street\, Pittsboro\, North Carolina\, 27312
END:VEVENT
BEGIN:VEVENT
DTSTART;TZID=America/New_York:20250610T130000
DTEND;TZID=America/New_York:20250610T170000
DTSTAMP:20260420T051703
CREATED:20250328T115714Z
LAST-MODIFIED:20250328T130217Z
UID:10000062-1749560400-1749574800@quiltedneedlefabrics.com
SUMMARY:✂️ Foundations in Quilting: Complete Throw Size Quilt ✂️
DESCRIPTION:👤 Skill Level: Confident Beginner \n🎟️ Class Fee: $135 – includes a fabric kit to complete your quilt top. \n                                   (Batting and Quilt Backing not included.) \n📍 Location: Quilted Needle Fabrics\, 350 East Street\, Pittsboro\, NC \n📅 Date(s):  Tuesday’s May 20\, 27\, June 3\, 10\, 17 Final Class June 24 \n🕒 Class Duration: 6 weeks: 1 PM – 5 PM \n              📢 Limited spots available!  This class cannot be purchased online. \n🧵About the Class: \nLearn the essentials of quilting while creating a beautiful throw size quilt!  This beginner-friendly course will guide you through the fundamentals of quilting—from selecting fabrics to finishing your very own throw size quilt.  Students will learn essential techniques\, including cutting\, piecing\, pressing\, quilting\, and binding. \nWhat You’ll Learn: \n✅    Fabric selection—choosing colors and prints that work together \n✅    How to properly use quilting tools: rotary cutter\, rulers\, and mats \n✅    How to read a pattern and understanding acronyms \n✅    Cutting fabric and accurate piecing techniques \n✅    Assembling quilt blocks and pressing for precision \n✅    Quilt top assembly \n✅    Basic quilting techniques (stitching layers together) \n✅    Binding and finishing touches \n🧵 Required \n✅ Sewing machine in good working condition. This class assumes you have a basic knowledge of your sewing machine\, including how to thread your machine and how to wind your bobbin. \n🌟 By the end of the class\, you’ll have a completed throw size quilt and the confidence to start your next quilting project!
URL:https://quiltedneedlefabrics.com/eventss/%e2%9c%82%ef%b8%8f-foundations-in-quilting-complete-throw-size-quilt-%e2%9c%82%ef%b8%8f/2025-06-10/
LOCATION:Quilted Needle Fabrics\, 350 East Street\, Pittsboro\, North Carolina\, 27312
END:VEVENT
BEGIN:VEVENT
DTSTART;TZID=America/New_York:20250614T130000
DTEND;TZID=America/New_York:20250614T160000
DTSTAMP:20260420T051703
CREATED:20250305T171817Z
LAST-MODIFIED:20250328T120133Z
UID:10000050-1749906000-1749916800@quiltedneedlefabrics.com
SUMMARY:Beginning Quilt Class-Hand & Machine Quilting
DESCRIPTION:Skill Level: Confident Beginner \nInstructor: Michelle Linder \nClass Fee: $20.00  Pre-Requisite (must have completed Beginner Quilting Class) \nIn this 4-week class\, you will learn the basics of machine quilting\, hand quilting\, and binding your quilt\, ensuring an amazing finish to your first quilting journey. \nQuilted Needle Fabrics offers a 10% discount on class supplies \nRequirements – Completed quilt top. \n\nSewing machine in good working condition. This class assumes you have a basic knowledge of your sewing machine\, including how to thread your machine and how to wind your bobbin.\n1 pre-wound bobbin\nFree Motion Foot\nWalking Foot\nThread –-neutral colored 100% cotton for piecing (synthetic or cotton)\nRotary Cutter with a sharp blade\nRotary Cutting mat\n6” ruler (available at shop)\nComplete Fussy Cut Ruler Set (available at shop)\nSeam ripper\n\nFabric Requirements (purchase at quilted needle fabrics) \nBacking \nBatting \nBinding \nBasic Sewing Kit \n\nNotebook (1/4” graft paper optional)\nPencil with eraser\nDouble sided tape (or fabric glue)\nScissors 6-8” and small snips to cut threads\nStraight pins\nPin Cushion\nWashable pencil (fabric marker)\nInk Pen (ultra fine point)\nSafety pins\n\nQuilted Needle Fabrics will have Shared Cutting Mats\, 6 1/2″ x 24 1/2″ Rulers with Handles\, Irons\, Ironing Boards and Design Wall
URL:https://quiltedneedlefabrics.com/eventss/beginning-quilt-class-hand-machine-quilting/2025-06-14/
LOCATION:Quilted Needle Fabrics\, 350 East Street\, Pittsboro\, North Carolina\, 27312
END:VEVENT
BEGIN:VEVENT
DTSTART;TZID=America/New_York:20250617T080000
DTEND;TZID=America/New_York:20250617T170000
DTSTAMP:20260420T051703
CREATED:20250328T115714Z
LAST-MODIFIED:20250328T130217Z
UID:10000063-1750147200-1750179600@quiltedneedlefabrics.com
SUMMARY:✂️ Foundations in Quilting: Complete Throw Size Quilt ✂️
DESCRIPTION:👤 Skill Level: Confident Beginner \n🎟️ Class Fee: $135 – includes a fabric kit to complete your quilt top. \n                                   (Batting and Quilt Backing not included.) \n📍 Location: Quilted Needle Fabrics\, 350 East Street\, Pittsboro\, NC \n📅 Date(s):  Tuesday’s May 20\, 27\, June 3\, 10\, 17 Final Class June 24 \n🕒 Class Duration: 6 weeks: 1 PM – 5 PM \n              📢 Limited spots available!  This class cannot be purchased online. \n🧵About the Class: \nLearn the essentials of quilting while creating a beautiful throw size quilt!  This beginner-friendly course will guide you through the fundamentals of quilting—from selecting fabrics to finishing your very own throw size quilt.  Students will learn essential techniques\, including cutting\, piecing\, pressing\, quilting\, and binding. \nWhat You’ll Learn: \n✅    Fabric selection—choosing colors and prints that work together \n✅    How to properly use quilting tools: rotary cutter\, rulers\, and mats \n✅    How to read a pattern and understanding acronyms \n✅    Cutting fabric and accurate piecing techniques \n✅    Assembling quilt blocks and pressing for precision \n✅    Quilt top assembly \n✅    Basic quilting techniques (stitching layers together) \n✅    Binding and finishing touches \n🧵 Required \n✅ Sewing machine in good working condition. This class assumes you have a basic knowledge of your sewing machine\, including how to thread your machine and how to wind your bobbin. \n🌟 By the end of the class\, you’ll have a completed throw size quilt and the confidence to start your next quilting project!
URL:https://quiltedneedlefabrics.com/eventss/%e2%9c%82%ef%b8%8f-foundations-in-quilting-complete-throw-size-quilt-%e2%9c%82%ef%b8%8f/2025-06-17/
LOCATION:Quilted Needle Fabrics\, 350 East Street\, Pittsboro\, North Carolina\, 27312
END:VEVENT
BEGIN:VEVENT
DTSTART;TZID=America/New_York:20250618T110000
DTEND;TZID=America/New_York:20250618T120000
DTSTAMP:20260420T051703
CREATED:20241228T012711Z
LAST-MODIFIED:20250211T135855Z
UID:10000019-1750244400-1750248000@quiltedneedlefabrics.com
SUMMARY:Mystery Block of the Month
DESCRIPTION:Instructor: Tim Rickman \nMeeting Time: 3rd Wednesday of each month \nSessions: 11:00 AM – 12:00 PM OR 5:30 PM – 6:30 PM \nMonthly Fee: $20.00 includes fabric to make your block \nEnrollment Information \nReserve your spot by purchasing the Civil War Sampler book and selecting your preferred meeting time. \n📞 Call or visit Quilted Needle Fabrics to sign up! \nCourse Overview \nThis year-long quilting program is inspired by Civil War Sampler by Barbara Brackman. Each month\, participants will receive a fabric kit and instructions to create both an 8×8 inch and 12×12 inch block while exploring the historical significance behind each design. Tim Rickman will introduce each block and provide tips and techniques to ensure success in construction. \nCourse Requirements \n\nPurchase of the Civil War Sampler book (required for participation).\nSelect your color pallet: A Walk on the Prairie fabric line.\n\nCourse Structure \nEach session will include: \n\nIntroduction of the Monthly Block – Tim Rickman will present the design and historical background.\nTechniques & Tips – Guidance on cutting\, piecing\, and assembly.\nQ&A & Group Discussion – Open floor for questions and sharing progress.\n\n3rd Wednesday Monthly Schedule  \n\nMarch: Introduction & First Block\nApril – November: Monthly Block Presentations\nDecember: Final Block & Quilt Assembly Discussion\n\nLearning Outcomes \nBy the end of the course\, participants will: \n✔ Gain confidence in quilt block construction. \n✔ Learn historical context for each block design. \n✔ Develop precision piecing and construction techniques. \n✔ Complete a beautiful sampler quilt by year-end!
URL:https://quiltedneedlefabrics.com/eventss/mystery-block-of-the-month/2025-06-18/
LOCATION:Quilted Needle Fabrics\, 350 East Street\, Pittsboro\, North Carolina\, 27312
END:VEVENT
BEGIN:VEVENT
DTSTART;TZID=America/New_York:20250621T130000
DTEND;TZID=America/New_York:20250621T160000
DTSTAMP:20260420T051703
CREATED:20250305T171817Z
LAST-MODIFIED:20250328T120133Z
UID:10000051-1750510800-1750521600@quiltedneedlefabrics.com
SUMMARY:Beginning Quilt Class-Hand & Machine Quilting
DESCRIPTION:Skill Level: Confident Beginner \nInstructor: Michelle Linder \nClass Fee: $20.00  Pre-Requisite (must have completed Beginner Quilting Class) \nIn this 4-week class\, you will learn the basics of machine quilting\, hand quilting\, and binding your quilt\, ensuring an amazing finish to your first quilting journey. \nQuilted Needle Fabrics offers a 10% discount on class supplies \nRequirements – Completed quilt top. \n\nSewing machine in good working condition. This class assumes you have a basic knowledge of your sewing machine\, including how to thread your machine and how to wind your bobbin.\n1 pre-wound bobbin\nFree Motion Foot\nWalking Foot\nThread –-neutral colored 100% cotton for piecing (synthetic or cotton)\nRotary Cutter with a sharp blade\nRotary Cutting mat\n6” ruler (available at shop)\nComplete Fussy Cut Ruler Set (available at shop)\nSeam ripper\n\nFabric Requirements (purchase at quilted needle fabrics) \nBacking \nBatting \nBinding \nBasic Sewing Kit \n\nNotebook (1/4” graft paper optional)\nPencil with eraser\nDouble sided tape (or fabric glue)\nScissors 6-8” and small snips to cut threads\nStraight pins\nPin Cushion\nWashable pencil (fabric marker)\nInk Pen (ultra fine point)\nSafety pins\n\nQuilted Needle Fabrics will have Shared Cutting Mats\, 6 1/2″ x 24 1/2″ Rulers with Handles\, Irons\, Ironing Boards and Design Wall
URL:https://quiltedneedlefabrics.com/eventss/beginning-quilt-class-hand-machine-quilting/2025-06-21/
LOCATION:Quilted Needle Fabrics\, 350 East Street\, Pittsboro\, North Carolina\, 27312
END:VEVENT
BEGIN:VEVENT
DTSTART;TZID=America/New_York:20250624T130000
DTEND;TZID=America/New_York:20250624T170000
DTSTAMP:20260420T051703
CREATED:20250328T115714Z
LAST-MODIFIED:20250328T130217Z
UID:10000064-1750770000-1750784400@quiltedneedlefabrics.com
SUMMARY:✂️ Foundations in Quilting: Complete Throw Size Quilt ✂️
DESCRIPTION:👤 Skill Level: Confident Beginner \n🎟️ Class Fee: $135 – includes a fabric kit to complete your quilt top. \n                                   (Batting and Quilt Backing not included.) \n📍 Location: Quilted Needle Fabrics\, 350 East Street\, Pittsboro\, NC \n📅 Date(s):  Tuesday’s May 20\, 27\, June 3\, 10\, 17 Final Class June 24 \n🕒 Class Duration: 6 weeks: 1 PM – 5 PM \n              📢 Limited spots available!  This class cannot be purchased online. \n🧵About the Class: \nLearn the essentials of quilting while creating a beautiful throw size quilt!  This beginner-friendly course will guide you through the fundamentals of quilting—from selecting fabrics to finishing your very own throw size quilt.  Students will learn essential techniques\, including cutting\, piecing\, pressing\, quilting\, and binding. \nWhat You’ll Learn: \n✅    Fabric selection—choosing colors and prints that work together \n✅    How to properly use quilting tools: rotary cutter\, rulers\, and mats \n✅    How to read a pattern and understanding acronyms \n✅    Cutting fabric and accurate piecing techniques \n✅    Assembling quilt blocks and pressing for precision \n✅    Quilt top assembly \n✅    Basic quilting techniques (stitching layers together) \n✅    Binding and finishing touches \n🧵 Required \n✅ Sewing machine in good working condition. This class assumes you have a basic knowledge of your sewing machine\, including how to thread your machine and how to wind your bobbin. \n🌟 By the end of the class\, you’ll have a completed throw size quilt and the confidence to start your next quilting project!
URL:https://quiltedneedlefabrics.com/eventss/%e2%9c%82%ef%b8%8f-foundations-in-quilting-complete-throw-size-quilt-%e2%9c%82%ef%b8%8f/2025-06-24/
LOCATION:Quilted Needle Fabrics\, 350 East Street\, Pittsboro\, North Carolina\, 27312
END:VEVENT
BEGIN:VEVENT
DTSTART;TZID=America/New_York:20250628T130000
DTEND;TZID=America/New_York:20250628T160000
DTSTAMP:20260420T051703
CREATED:20250305T171817Z
LAST-MODIFIED:20250328T120133Z
UID:10000052-1751115600-1751126400@quiltedneedlefabrics.com
SUMMARY:Beginning Quilt Class-Hand & Machine Quilting
DESCRIPTION:Skill Level: Confident Beginner \nInstructor: Michelle Linder \nClass Fee: $20.00  Pre-Requisite (must have completed Beginner Quilting Class) \nIn this 4-week class\, you will learn the basics of machine quilting\, hand quilting\, and binding your quilt\, ensuring an amazing finish to your first quilting journey. \nQuilted Needle Fabrics offers a 10% discount on class supplies \nRequirements – Completed quilt top. \n\nSewing machine in good working condition. This class assumes you have a basic knowledge of your sewing machine\, including how to thread your machine and how to wind your bobbin.\n1 pre-wound bobbin\nFree Motion Foot\nWalking Foot\nThread –-neutral colored 100% cotton for piecing (synthetic or cotton)\nRotary Cutter with a sharp blade\nRotary Cutting mat\n6” ruler (available at shop)\nComplete Fussy Cut Ruler Set (available at shop)\nSeam ripper\n\nFabric Requirements (purchase at quilted needle fabrics) \nBacking \nBatting \nBinding \nBasic Sewing Kit \n\nNotebook (1/4” graft paper optional)\nPencil with eraser\nDouble sided tape (or fabric glue)\nScissors 6-8” and small snips to cut threads\nStraight pins\nPin Cushion\nWashable pencil (fabric marker)\nInk Pen (ultra fine point)\nSafety pins\n\nQuilted Needle Fabrics will have Shared Cutting Mats\, 6 1/2″ x 24 1/2″ Rulers with Handles\, Irons\, Ironing Boards and Design Wall
URL:https://quiltedneedlefabrics.com/eventss/beginning-quilt-class-hand-machine-quilting/2025-06-28/
LOCATION:Quilted Needle Fabrics\, 350 East Street\, Pittsboro\, North Carolina\, 27312
END:VEVENT
END:VCALENDAR