BEGIN:VCALENDAR
VERSION:2.0
PRODID:-//Quilted Needle Fabrics - ECPv6.15.20//NONSGML v1.0//EN
CALSCALE:GREGORIAN
METHOD:PUBLISH
X-ORIGINAL-URL:https://quiltedneedlefabrics.com
X-WR-CALDESC:Events for Quilted Needle Fabrics
REFRESH-INTERVAL;VALUE=DURATION:PT1H
X-Robots-Tag:noindex
X-PUBLISHED-TTL:PT1H
BEGIN:VTIMEZONE
TZID:America/New_York
BEGIN:DAYLIGHT
TZOFFSETFROM:-0500
TZOFFSETTO:-0400
TZNAME:EDT
DTSTART:20240310T070000
END:DAYLIGHT
BEGIN:STANDARD
TZOFFSETFROM:-0400
TZOFFSETTO:-0500
TZNAME:EST
DTSTART:20241103T060000
END:STANDARD
BEGIN:DAYLIGHT
TZOFFSETFROM:-0500
TZOFFSETTO:-0400
TZNAME:EDT
DTSTART:20250309T070000
END:DAYLIGHT
BEGIN:STANDARD
TZOFFSETFROM:-0400
TZOFFSETTO:-0500
TZNAME:EST
DTSTART:20251102T060000
END:STANDARD
BEGIN:DAYLIGHT
TZOFFSETFROM:-0500
TZOFFSETTO:-0400
TZNAME:EDT
DTSTART:20260308T070000
END:DAYLIGHT
BEGIN:STANDARD
TZOFFSETFROM:-0400
TZOFFSETTO:-0500
TZNAME:EST
DTSTART:20261101T060000
END:STANDARD
END:VTIMEZONE
BEGIN:VEVENT
DTSTART;TZID=America/New_York:20250701T100000
DTEND;TZID=America/New_York:20250701T173000
DTSTAMP:20260420T070530
CREATED:20250527T111307Z
LAST-MODIFIED:20250527T111307Z
UID:10000081-1751364000-1751391000@quiltedneedlefabrics.com
SUMMARY:Holiday Closed
DESCRIPTION:**Please note that Quilted Needle Fabrics will close the first week of July for a time to rest and play. \n\nBeginning July 1 through July 7 we will be closed and back the following Tuesday\,  July 8. **
URL:https://quiltedneedlefabrics.com/eventss/holiday-closed/2025-07-01/
LOCATION:Quilted Needle Fabrics\, 350 East Street\, Pittsboro\, North Carolina\, 27312
END:VEVENT
BEGIN:VEVENT
DTSTART;TZID=America/New_York:20250702T100000
DTEND;TZID=America/New_York:20250702T173000
DTSTAMP:20260420T070530
CREATED:20250527T111307Z
LAST-MODIFIED:20250527T111307Z
UID:10000082-1751450400-1751477400@quiltedneedlefabrics.com
SUMMARY:Holiday Closed
DESCRIPTION:**Please note that Quilted Needle Fabrics will close the first week of July for a time to rest and play. \n\nBeginning July 1 through July 7 we will be closed and back the following Tuesday\,  July 8. **
URL:https://quiltedneedlefabrics.com/eventss/holiday-closed/2025-07-02/
LOCATION:Quilted Needle Fabrics\, 350 East Street\, Pittsboro\, North Carolina\, 27312
END:VEVENT
BEGIN:VEVENT
DTSTART;TZID=America/New_York:20250703T100000
DTEND;TZID=America/New_York:20250703T173000
DTSTAMP:20260420T070530
CREATED:20250527T111307Z
LAST-MODIFIED:20250527T111307Z
UID:10000083-1751536800-1751563800@quiltedneedlefabrics.com
SUMMARY:Holiday Closed
DESCRIPTION:**Please note that Quilted Needle Fabrics will close the first week of July for a time to rest and play. \n\nBeginning July 1 through July 7 we will be closed and back the following Tuesday\,  July 8. **
URL:https://quiltedneedlefabrics.com/eventss/holiday-closed/2025-07-03/
LOCATION:Quilted Needle Fabrics\, 350 East Street\, Pittsboro\, North Carolina\, 27312
END:VEVENT
BEGIN:VEVENT
DTSTART;TZID=America/New_York:20250704T100000
DTEND;TZID=America/New_York:20250704T173000
DTSTAMP:20260420T070530
CREATED:20250527T111307Z
LAST-MODIFIED:20250527T111307Z
UID:10000084-1751623200-1751650200@quiltedneedlefabrics.com
SUMMARY:Holiday Closed
DESCRIPTION:**Please note that Quilted Needle Fabrics will close the first week of July for a time to rest and play. \n\nBeginning July 1 through July 7 we will be closed and back the following Tuesday\,  July 8. **
URL:https://quiltedneedlefabrics.com/eventss/holiday-closed/2025-07-04/
LOCATION:Quilted Needle Fabrics\, 350 East Street\, Pittsboro\, North Carolina\, 27312
END:VEVENT
BEGIN:VEVENT
DTSTART;TZID=America/New_York:20250705T100000
DTEND;TZID=America/New_York:20250705T173000
DTSTAMP:20260420T070530
CREATED:20250527T111307Z
LAST-MODIFIED:20250527T111307Z
UID:10000085-1751709600-1751736600@quiltedneedlefabrics.com
SUMMARY:Holiday Closed
DESCRIPTION:**Please note that Quilted Needle Fabrics will close the first week of July for a time to rest and play. \n\nBeginning July 1 through July 7 we will be closed and back the following Tuesday\,  July 8. **
URL:https://quiltedneedlefabrics.com/eventss/holiday-closed/2025-07-05/
LOCATION:Quilted Needle Fabrics\, 350 East Street\, Pittsboro\, North Carolina\, 27312
END:VEVENT
BEGIN:VEVENT
DTSTART;TZID=America/New_York:20250712T130000
DTEND;TZID=America/New_York:20250712T160000
DTSTAMP:20260420T070530
CREATED:20250426T151255Z
LAST-MODIFIED:20250426T151255Z
UID:10000078-1752325200-1752336000@quiltedneedlefabrics.com
SUMMARY:BLOCKS: 3D QUILTING MAGIC
DESCRIPTION:BLOCKS: 3D QUILTING MAGIC \nCreate the stunning illusion of 3D cubes using fabric! In this intermediate-level class\, you’ll master strip piecing  while playing with light\, medium\, and dark values to achieve that signature tumbling effect. You’ll leave with a completed block and the confidence to build your own dimensional quilt. \n👤 Skill Level: Advanced to Intermediate \n🎟️ A one-time class instruction fee $30.00 \n🗓️ July 12    ⏰ 1:00 PM – 4:00 PM \n📅 Duration: July 12\, 1:00pm – 4:00pm \n  \n👤 Instructor: Janet Blazekovich \n👥 Max 6 students \nIn this class you will learn \n✂️ Choosing fabrics for value contrast \n📐 Cutting accurate 60° diamonds \n🧵 Strip piecing  \n🪡 Block assembly and pressing \n🧩 Layout ideas and finishing options
URL:https://quiltedneedlefabrics.com/eventss/blocks-3d-quilting-magic/
LOCATION:Quilted Needle Fabrics\, 350 East Street\, Pittsboro\, North Carolina\, 27312
END:VEVENT
BEGIN:VEVENT
DTSTART;TZID=America/New_York:20250716T110000
DTEND;TZID=America/New_York:20250716T120000
DTSTAMP:20260420T070530
CREATED:20241228T012711Z
LAST-MODIFIED:20250211T135855Z
UID:10000020-1752663600-1752667200@quiltedneedlefabrics.com
SUMMARY:Mystery Block of the Month
DESCRIPTION:Instructor: Tim Rickman \nMeeting Time: 3rd Wednesday of each month \nSessions: 11:00 AM – 12:00 PM OR 5:30 PM – 6:30 PM \nMonthly Fee: $20.00 includes fabric to make your block \nEnrollment Information \nReserve your spot by purchasing the Civil War Sampler book and selecting your preferred meeting time. \n📞 Call or visit Quilted Needle Fabrics to sign up! \nCourse Overview \nThis year-long quilting program is inspired by Civil War Sampler by Barbara Brackman. Each month\, participants will receive a fabric kit and instructions to create both an 8×8 inch and 12×12 inch block while exploring the historical significance behind each design. Tim Rickman will introduce each block and provide tips and techniques to ensure success in construction. \nCourse Requirements \n\nPurchase of the Civil War Sampler book (required for participation).\nSelect your color pallet: A Walk on the Prairie fabric line.\n\nCourse Structure \nEach session will include: \n\nIntroduction of the Monthly Block – Tim Rickman will present the design and historical background.\nTechniques & Tips – Guidance on cutting\, piecing\, and assembly.\nQ&A & Group Discussion – Open floor for questions and sharing progress.\n\n3rd Wednesday Monthly Schedule  \n\nMarch: Introduction & First Block\nApril – November: Monthly Block Presentations\nDecember: Final Block & Quilt Assembly Discussion\n\nLearning Outcomes \nBy the end of the course\, participants will: \n✔ Gain confidence in quilt block construction. \n✔ Learn historical context for each block design. \n✔ Develop precision piecing and construction techniques. \n✔ Complete a beautiful sampler quilt by year-end!
URL:https://quiltedneedlefabrics.com/eventss/mystery-block-of-the-month/2025-07-16/
LOCATION:Quilted Needle Fabrics\, 350 East Street\, Pittsboro\, North Carolina\, 27312
END:VEVENT
BEGIN:VEVENT
DTSTART;TZID=America/New_York:20250723T120000
DTEND;TZID=America/New_York:20250723T160000
DTSTAMP:20260420T070530
CREATED:20250716T150049Z
LAST-MODIFIED:20250716T135521Z
UID:10000086-1753272000-1753286400@quiltedneedlefabrics.com
SUMMARY:✨ Drop-In Sew
DESCRIPTION:Need a little creative time away from home? \nCome sew with us in the comfort of our shop during our first Drop-In Sew session! \n12:00pm – 4:00pm \nBring a friend – Stay an hour or stay all afternoon—it’s totally up to you. No fee\, just bring your project\, machine\, and supplies. \nCall ahead to let us know you’re coming\, and we’ll save you a spot at the table!
URL:https://quiltedneedlefabrics.com/eventss/%e2%9c%a8-drop-in-sew/2025-07-23/
LOCATION:Quilted Needle Fabrics\, 350 East Street\, Pittsboro\, North Carolina\, 27312
END:VEVENT
END:VCALENDAR